BEGIN:VCALENDAR
VERSION:2.0
PRODID:-//Ajuntament de El Verger - ECPv6.15.14//NONSGML v1.0//EN
CALSCALE:GREGORIAN
METHOD:PUBLISH
X-ORIGINAL-URL:https://new.elverger.es
X-WR-CALDESC:Esdeveniments per Ajuntament de El Verger
REFRESH-INTERVAL;VALUE=DURATION:PT1H
X-Robots-Tag:noindex
X-PUBLISHED-TTL:PT1H
BEGIN:VTIMEZONE
TZID:Europe/Madrid
BEGIN:DAYLIGHT
TZOFFSETFROM:+0100
TZOFFSETTO:+0200
TZNAME:CEST
DTSTART:20200329T010000
END:DAYLIGHT
BEGIN:STANDARD
TZOFFSETFROM:+0200
TZOFFSETTO:+0100
TZNAME:CET
DTSTART:20201025T010000
END:STANDARD
BEGIN:DAYLIGHT
TZOFFSETFROM:+0100
TZOFFSETTO:+0200
TZNAME:CEST
DTSTART:20210328T010000
END:DAYLIGHT
BEGIN:STANDARD
TZOFFSETFROM:+0200
TZOFFSETTO:+0100
TZNAME:CET
DTSTART:20211031T010000
END:STANDARD
BEGIN:DAYLIGHT
TZOFFSETFROM:+0100
TZOFFSETTO:+0200
TZNAME:CEST
DTSTART:20220327T010000
END:DAYLIGHT
BEGIN:STANDARD
TZOFFSETFROM:+0200
TZOFFSETTO:+0100
TZNAME:CET
DTSTART:20221030T010000
END:STANDARD
END:VTIMEZONE
BEGIN:VEVENT
DTSTART;TZID=Europe/Madrid:20211215T170000
DTEND;TZID=Europe/Madrid:20211215T200000
DTSTAMP:20260425T151709
CREATED:20211119T122447Z
LAST-MODIFIED:20241024T084703Z
UID:10021547-1639587600-1639598400@new.elverger.es
SUMMARY:EXPOSICIÓN ITINERANTE "ART A LA MARINA ALTA"
DESCRIPTION:ante
URL:https://new.elverger.es/event/exposicion-itinerante-art-a-la-marina-alta/2021-12-15/
LOCATION:Torre dels Ducs de Medinaceli\, C/ Abadia\, 2\, El Verger\, Alacant\, 03770\, España
ATTACH;FMTTYPE=image/jpeg:https://new.elverger.es/wp-content/uploads/2024/10/exposicio.jpg
GEO:38.842789;0.0103199
X-APPLE-STRUCTURED-LOCATION;VALUE=URI;X-ADDRESS=Torre dels Ducs de Medinaceli C/ Abadia 2 El Verger Alacant 03770 España;X-APPLE-RADIUS=500;X-TITLE=C/ Abadia\, 2:geo:0.0103199,38.842789
END:VEVENT
BEGIN:VEVENT
DTSTART;TZID=Europe/Madrid:20211215T170000
DTEND;TZID=Europe/Madrid:20211215T200000
DTSTAMP:20260425T151709
CREATED:20211119T122447Z
LAST-MODIFIED:20241024T084706Z
UID:10021789-1639587600-1639598400@new.elverger.es
SUMMARY:EXPOSICIÓN ITINERANTE "ART A LA MARINA ALTA"
DESCRIPTION:ante
URL:https://new.elverger.es/event/exposicion-itinerante-art-a-la-marina-alta/2021-12-15/
LOCATION:Torre dels Ducs de Medinaceli\, C/ Abadia\, 2\, El Verger\, Alacant\, 03770\, España
ATTACH;FMTTYPE=image/jpeg:https://new.elverger.es/wp-content/uploads/2024/10/exposicio.jpg
GEO:38.842789;0.0103199
X-APPLE-STRUCTURED-LOCATION;VALUE=URI;X-ADDRESS=Torre dels Ducs de Medinaceli C/ Abadia 2 El Verger Alacant 03770 España;X-APPLE-RADIUS=500;X-TITLE=C/ Abadia\, 2:geo:0.0103199,38.842789
END:VEVENT
BEGIN:VEVENT
DTSTART;TZID=Europe/Madrid:20211215T170000
DTEND;TZID=Europe/Madrid:20211215T200000
DTSTAMP:20260425T151709
CREATED:20211119T122447Z
LAST-MODIFIED:20241024T084706Z
UID:10021805-1639587600-1639598400@new.elverger.es
SUMMARY:EXPOSICIÓN ITINERANTE "ART A LA MARINA ALTA"
DESCRIPTION:ante
URL:https://new.elverger.es/event/exposicion-itinerante-art-a-la-marina-alta/2021-12-15/
LOCATION:Torre dels Ducs de Medinaceli\, C/ Abadia\, 2\, El Verger\, Alacant\, 03770\, España
ATTACH;FMTTYPE=image/jpeg:https://new.elverger.es/wp-content/uploads/2024/10/exposicio.jpg
GEO:38.842789;0.0103199
X-APPLE-STRUCTURED-LOCATION;VALUE=URI;X-ADDRESS=Torre dels Ducs de Medinaceli C/ Abadia 2 El Verger Alacant 03770 España;X-APPLE-RADIUS=500;X-TITLE=C/ Abadia\, 2:geo:0.0103199,38.842789
END:VEVENT
BEGIN:VEVENT
DTSTART;TZID=Europe/Madrid:20211215T170000
DTEND;TZID=Europe/Madrid:20211215T200000
DTSTAMP:20260425T151709
CREATED:20211119T122447Z
LAST-MODIFIED:20241024T084706Z
UID:10021820-1639587600-1639598400@new.elverger.es
SUMMARY:EXPOSICIÓN ITINERANTE "ART A LA MARINA ALTA"
DESCRIPTION:ante
URL:https://new.elverger.es/event/exposicion-itinerante-art-a-la-marina-alta/2021-12-15/
LOCATION:Torre dels Ducs de Medinaceli\, C/ Abadia\, 2\, El Verger\, Alacant\, 03770\, España
ATTACH;FMTTYPE=image/jpeg:https://new.elverger.es/wp-content/uploads/2024/10/exposicio.jpg
GEO:38.842789;0.0103199
X-APPLE-STRUCTURED-LOCATION;VALUE=URI;X-ADDRESS=Torre dels Ducs de Medinaceli C/ Abadia 2 El Verger Alacant 03770 España;X-APPLE-RADIUS=500;X-TITLE=C/ Abadia\, 2:geo:0.0103199,38.842789
END:VEVENT
BEGIN:VEVENT
DTSTART;TZID=Europe/Madrid:20211215T170000
DTEND;TZID=Europe/Madrid:20211215T200000
DTSTAMP:20260425T151709
CREATED:20211119T122447Z
LAST-MODIFIED:20241024T084706Z
UID:10021834-1639587600-1639598400@new.elverger.es
SUMMARY:EXPOSICIÓN ITINERANTE "ART A LA MARINA ALTA"
DESCRIPTION:ante
URL:https://new.elverger.es/event/exposicion-itinerante-art-a-la-marina-alta/2021-12-15/
LOCATION:Torre dels Ducs de Medinaceli\, C/ Abadia\, 2\, El Verger\, Alacant\, 03770\, España
ATTACH;FMTTYPE=image/jpeg:https://new.elverger.es/wp-content/uploads/2024/10/exposicio.jpg
GEO:38.842789;0.0103199
X-APPLE-STRUCTURED-LOCATION;VALUE=URI;X-ADDRESS=Torre dels Ducs de Medinaceli C/ Abadia 2 El Verger Alacant 03770 España;X-APPLE-RADIUS=500;X-TITLE=C/ Abadia\, 2:geo:0.0103199,38.842789
END:VEVENT
BEGIN:VEVENT
DTSTART;TZID=Europe/Madrid:20211215T170000
DTEND;TZID=Europe/Madrid:20211215T200000
DTSTAMP:20260425T151709
CREATED:20211119T122447Z
LAST-MODIFIED:20241024T084707Z
UID:10021847-1639587600-1639598400@new.elverger.es
SUMMARY:EXPOSICIÓN ITINERANTE "ART A LA MARINA ALTA"
DESCRIPTION:ante
URL:https://new.elverger.es/event/exposicion-itinerante-art-a-la-marina-alta/2021-12-15/
LOCATION:Torre dels Ducs de Medinaceli\, C/ Abadia\, 2\, El Verger\, Alacant\, 03770\, España
ATTACH;FMTTYPE=image/jpeg:https://new.elverger.es/wp-content/uploads/2024/10/exposicio.jpg
GEO:38.842789;0.0103199
X-APPLE-STRUCTURED-LOCATION;VALUE=URI;X-ADDRESS=Torre dels Ducs de Medinaceli C/ Abadia 2 El Verger Alacant 03770 España;X-APPLE-RADIUS=500;X-TITLE=C/ Abadia\, 2:geo:0.0103199,38.842789
END:VEVENT
BEGIN:VEVENT
DTSTART;TZID=Europe/Madrid:20211214T170000
DTEND;TZID=Europe/Madrid:20211214T200000
DTSTAMP:20260425T151709
CREATED:20211119T122447Z
LAST-MODIFIED:20241024T084703Z
UID:10021546-1639501200-1639512000@new.elverger.es
SUMMARY:EXPOSICIÓN ITINERANTE "ART A LA MARINA ALTA"
DESCRIPTION:ante
URL:https://new.elverger.es/event/exposicion-itinerante-art-a-la-marina-alta/2021-12-14/
LOCATION:Torre dels Ducs de Medinaceli\, C/ Abadia\, 2\, El Verger\, Alacant\, 03770\, España
ATTACH;FMTTYPE=image/jpeg:https://new.elverger.es/wp-content/uploads/2024/10/exposicio.jpg
GEO:38.842789;0.0103199
X-APPLE-STRUCTURED-LOCATION;VALUE=URI;X-ADDRESS=Torre dels Ducs de Medinaceli C/ Abadia 2 El Verger Alacant 03770 España;X-APPLE-RADIUS=500;X-TITLE=C/ Abadia\, 2:geo:0.0103199,38.842789
END:VEVENT
BEGIN:VEVENT
DTSTART;TZID=Europe/Madrid:20211214T170000
DTEND;TZID=Europe/Madrid:20211214T200000
DTSTAMP:20260425T151709
CREATED:20211119T122447Z
LAST-MODIFIED:20241024T084706Z
UID:10021788-1639501200-1639512000@new.elverger.es
SUMMARY:EXPOSICIÓN ITINERANTE "ART A LA MARINA ALTA"
DESCRIPTION:ante
URL:https://new.elverger.es/event/exposicion-itinerante-art-a-la-marina-alta/2021-12-14/
LOCATION:Torre dels Ducs de Medinaceli\, C/ Abadia\, 2\, El Verger\, Alacant\, 03770\, España
ATTACH;FMTTYPE=image/jpeg:https://new.elverger.es/wp-content/uploads/2024/10/exposicio.jpg
GEO:38.842789;0.0103199
X-APPLE-STRUCTURED-LOCATION;VALUE=URI;X-ADDRESS=Torre dels Ducs de Medinaceli C/ Abadia 2 El Verger Alacant 03770 España;X-APPLE-RADIUS=500;X-TITLE=C/ Abadia\, 2:geo:0.0103199,38.842789
END:VEVENT
BEGIN:VEVENT
DTSTART;TZID=Europe/Madrid:20211214T170000
DTEND;TZID=Europe/Madrid:20211214T200000
DTSTAMP:20260425T151709
CREATED:20211119T122447Z
LAST-MODIFIED:20241024T084706Z
UID:10021804-1639501200-1639512000@new.elverger.es
SUMMARY:EXPOSICIÓN ITINERANTE "ART A LA MARINA ALTA"
DESCRIPTION:ante
URL:https://new.elverger.es/event/exposicion-itinerante-art-a-la-marina-alta/2021-12-14/
LOCATION:Torre dels Ducs de Medinaceli\, C/ Abadia\, 2\, El Verger\, Alacant\, 03770\, España
ATTACH;FMTTYPE=image/jpeg:https://new.elverger.es/wp-content/uploads/2024/10/exposicio.jpg
GEO:38.842789;0.0103199
X-APPLE-STRUCTURED-LOCATION;VALUE=URI;X-ADDRESS=Torre dels Ducs de Medinaceli C/ Abadia 2 El Verger Alacant 03770 España;X-APPLE-RADIUS=500;X-TITLE=C/ Abadia\, 2:geo:0.0103199,38.842789
END:VEVENT
BEGIN:VEVENT
DTSTART;TZID=Europe/Madrid:20211214T170000
DTEND;TZID=Europe/Madrid:20211214T200000
DTSTAMP:20260425T151709
CREATED:20211119T122447Z
LAST-MODIFIED:20241024T084706Z
UID:10021819-1639501200-1639512000@new.elverger.es
SUMMARY:EXPOSICIÓN ITINERANTE "ART A LA MARINA ALTA"
DESCRIPTION:ante
URL:https://new.elverger.es/event/exposicion-itinerante-art-a-la-marina-alta/2021-12-14/
LOCATION:Torre dels Ducs de Medinaceli\, C/ Abadia\, 2\, El Verger\, Alacant\, 03770\, España
ATTACH;FMTTYPE=image/jpeg:https://new.elverger.es/wp-content/uploads/2024/10/exposicio.jpg
GEO:38.842789;0.0103199
X-APPLE-STRUCTURED-LOCATION;VALUE=URI;X-ADDRESS=Torre dels Ducs de Medinaceli C/ Abadia 2 El Verger Alacant 03770 España;X-APPLE-RADIUS=500;X-TITLE=C/ Abadia\, 2:geo:0.0103199,38.842789
END:VEVENT
BEGIN:VEVENT
DTSTART;TZID=Europe/Madrid:20211214T170000
DTEND;TZID=Europe/Madrid:20211214T200000
DTSTAMP:20260425T151709
CREATED:20211119T122447Z
LAST-MODIFIED:20241024T084706Z
UID:10021833-1639501200-1639512000@new.elverger.es
SUMMARY:EXPOSICIÓN ITINERANTE "ART A LA MARINA ALTA"
DESCRIPTION:ante
URL:https://new.elverger.es/event/exposicion-itinerante-art-a-la-marina-alta/2021-12-14/
LOCATION:Torre dels Ducs de Medinaceli\, C/ Abadia\, 2\, El Verger\, Alacant\, 03770\, España
ATTACH;FMTTYPE=image/jpeg:https://new.elverger.es/wp-content/uploads/2024/10/exposicio.jpg
GEO:38.842789;0.0103199
X-APPLE-STRUCTURED-LOCATION;VALUE=URI;X-ADDRESS=Torre dels Ducs de Medinaceli C/ Abadia 2 El Verger Alacant 03770 España;X-APPLE-RADIUS=500;X-TITLE=C/ Abadia\, 2:geo:0.0103199,38.842789
END:VEVENT
BEGIN:VEVENT
DTSTART;TZID=Europe/Madrid:20211211T170000
DTEND;TZID=Europe/Madrid:20211211T200000
DTSTAMP:20260425T151709
CREATED:20211119T122447Z
LAST-MODIFIED:20241024T084703Z
UID:10021545-1639242000-1639252800@new.elverger.es
SUMMARY:EXPOSICIÓN ITINERANTE "ART A LA MARINA ALTA"
DESCRIPTION:ante
URL:https://new.elverger.es/event/exposicion-itinerante-art-a-la-marina-alta/2021-12-11/
LOCATION:Torre dels Ducs de Medinaceli\, C/ Abadia\, 2\, El Verger\, Alacant\, 03770\, España
ATTACH;FMTTYPE=image/jpeg:https://new.elverger.es/wp-content/uploads/2024/10/exposicio.jpg
GEO:38.842789;0.0103199
X-APPLE-STRUCTURED-LOCATION;VALUE=URI;X-ADDRESS=Torre dels Ducs de Medinaceli C/ Abadia 2 El Verger Alacant 03770 España;X-APPLE-RADIUS=500;X-TITLE=C/ Abadia\, 2:geo:0.0103199,38.842789
END:VEVENT
BEGIN:VEVENT
DTSTART;TZID=Europe/Madrid:20211211T170000
DTEND;TZID=Europe/Madrid:20211211T200000
DTSTAMP:20260425T151709
CREATED:20211119T122447Z
LAST-MODIFIED:20241024T084706Z
UID:10021787-1639242000-1639252800@new.elverger.es
SUMMARY:EXPOSICIÓN ITINERANTE "ART A LA MARINA ALTA"
DESCRIPTION:ante
URL:https://new.elverger.es/event/exposicion-itinerante-art-a-la-marina-alta/2021-12-11/
LOCATION:Torre dels Ducs de Medinaceli\, C/ Abadia\, 2\, El Verger\, Alacant\, 03770\, España
ATTACH;FMTTYPE=image/jpeg:https://new.elverger.es/wp-content/uploads/2024/10/exposicio.jpg
GEO:38.842789;0.0103199
X-APPLE-STRUCTURED-LOCATION;VALUE=URI;X-ADDRESS=Torre dels Ducs de Medinaceli C/ Abadia 2 El Verger Alacant 03770 España;X-APPLE-RADIUS=500;X-TITLE=C/ Abadia\, 2:geo:0.0103199,38.842789
END:VEVENT
BEGIN:VEVENT
DTSTART;TZID=Europe/Madrid:20211211T170000
DTEND;TZID=Europe/Madrid:20211211T200000
DTSTAMP:20260425T151709
CREATED:20211119T122447Z
LAST-MODIFIED:20241024T084706Z
UID:10021803-1639242000-1639252800@new.elverger.es
SUMMARY:EXPOSICIÓN ITINERANTE "ART A LA MARINA ALTA"
DESCRIPTION:ante
URL:https://new.elverger.es/event/exposicion-itinerante-art-a-la-marina-alta/2021-12-11/
LOCATION:Torre dels Ducs de Medinaceli\, C/ Abadia\, 2\, El Verger\, Alacant\, 03770\, España
ATTACH;FMTTYPE=image/jpeg:https://new.elverger.es/wp-content/uploads/2024/10/exposicio.jpg
GEO:38.842789;0.0103199
X-APPLE-STRUCTURED-LOCATION;VALUE=URI;X-ADDRESS=Torre dels Ducs de Medinaceli C/ Abadia 2 El Verger Alacant 03770 España;X-APPLE-RADIUS=500;X-TITLE=C/ Abadia\, 2:geo:0.0103199,38.842789
END:VEVENT
BEGIN:VEVENT
DTSTART;TZID=Europe/Madrid:20211211T170000
DTEND;TZID=Europe/Madrid:20211211T200000
DTSTAMP:20260425T151709
CREATED:20211119T122447Z
LAST-MODIFIED:20241024T084706Z
UID:10021818-1639242000-1639252800@new.elverger.es
SUMMARY:EXPOSICIÓN ITINERANTE "ART A LA MARINA ALTA"
DESCRIPTION:ante
URL:https://new.elverger.es/event/exposicion-itinerante-art-a-la-marina-alta/2021-12-11/
LOCATION:Torre dels Ducs de Medinaceli\, C/ Abadia\, 2\, El Verger\, Alacant\, 03770\, España
ATTACH;FMTTYPE=image/jpeg:https://new.elverger.es/wp-content/uploads/2024/10/exposicio.jpg
GEO:38.842789;0.0103199
X-APPLE-STRUCTURED-LOCATION;VALUE=URI;X-ADDRESS=Torre dels Ducs de Medinaceli C/ Abadia 2 El Verger Alacant 03770 España;X-APPLE-RADIUS=500;X-TITLE=C/ Abadia\, 2:geo:0.0103199,38.842789
END:VEVENT
BEGIN:VEVENT
DTSTART;TZID=Europe/Madrid:20211210T170000
DTEND;TZID=Europe/Madrid:20211210T200000
DTSTAMP:20260425T151709
CREATED:20211119T122447Z
LAST-MODIFIED:20241024T084703Z
UID:10021544-1639155600-1639166400@new.elverger.es
SUMMARY:EXPOSICIÓN ITINERANTE "ART A LA MARINA ALTA"
DESCRIPTION:ante
URL:https://new.elverger.es/event/exposicion-itinerante-art-a-la-marina-alta/2021-12-10/
LOCATION:Torre dels Ducs de Medinaceli\, C/ Abadia\, 2\, El Verger\, Alacant\, 03770\, España
ATTACH;FMTTYPE=image/jpeg:https://new.elverger.es/wp-content/uploads/2024/10/exposicio.jpg
GEO:38.842789;0.0103199
X-APPLE-STRUCTURED-LOCATION;VALUE=URI;X-ADDRESS=Torre dels Ducs de Medinaceli C/ Abadia 2 El Verger Alacant 03770 España;X-APPLE-RADIUS=500;X-TITLE=C/ Abadia\, 2:geo:0.0103199,38.842789
END:VEVENT
BEGIN:VEVENT
DTSTART;TZID=Europe/Madrid:20211210T170000
DTEND;TZID=Europe/Madrid:20211210T200000
DTSTAMP:20260425T151709
CREATED:20211119T122447Z
LAST-MODIFIED:20241024T084706Z
UID:10021786-1639155600-1639166400@new.elverger.es
SUMMARY:EXPOSICIÓN ITINERANTE "ART A LA MARINA ALTA"
DESCRIPTION:ante
URL:https://new.elverger.es/event/exposicion-itinerante-art-a-la-marina-alta/2021-12-10/
LOCATION:Torre dels Ducs de Medinaceli\, C/ Abadia\, 2\, El Verger\, Alacant\, 03770\, España
ATTACH;FMTTYPE=image/jpeg:https://new.elverger.es/wp-content/uploads/2024/10/exposicio.jpg
GEO:38.842789;0.0103199
X-APPLE-STRUCTURED-LOCATION;VALUE=URI;X-ADDRESS=Torre dels Ducs de Medinaceli C/ Abadia 2 El Verger Alacant 03770 España;X-APPLE-RADIUS=500;X-TITLE=C/ Abadia\, 2:geo:0.0103199,38.842789
END:VEVENT
BEGIN:VEVENT
DTSTART;TZID=Europe/Madrid:20211210T170000
DTEND;TZID=Europe/Madrid:20211210T200000
DTSTAMP:20260425T151709
CREATED:20211119T122447Z
LAST-MODIFIED:20241024T084706Z
UID:10021802-1639155600-1639166400@new.elverger.es
SUMMARY:EXPOSICIÓN ITINERANTE "ART A LA MARINA ALTA"
DESCRIPTION:ante
URL:https://new.elverger.es/event/exposicion-itinerante-art-a-la-marina-alta/2021-12-10/
LOCATION:Torre dels Ducs de Medinaceli\, C/ Abadia\, 2\, El Verger\, Alacant\, 03770\, España
ATTACH;FMTTYPE=image/jpeg:https://new.elverger.es/wp-content/uploads/2024/10/exposicio.jpg
GEO:38.842789;0.0103199
X-APPLE-STRUCTURED-LOCATION;VALUE=URI;X-ADDRESS=Torre dels Ducs de Medinaceli C/ Abadia 2 El Verger Alacant 03770 España;X-APPLE-RADIUS=500;X-TITLE=C/ Abadia\, 2:geo:0.0103199,38.842789
END:VEVENT
BEGIN:VEVENT
DTSTART;TZID=Europe/Madrid:20211209T170000
DTEND;TZID=Europe/Madrid:20211209T200000
DTSTAMP:20260425T151709
CREATED:20211119T122447Z
LAST-MODIFIED:20241024T084703Z
UID:10021543-1639069200-1639080000@new.elverger.es
SUMMARY:EXPOSICIÓN ITINERANTE "ART A LA MARINA ALTA"
DESCRIPTION:ante
URL:https://new.elverger.es/event/exposicion-itinerante-art-a-la-marina-alta/2021-12-09/
LOCATION:Torre dels Ducs de Medinaceli\, C/ Abadia\, 2\, El Verger\, Alacant\, 03770\, España
ATTACH;FMTTYPE=image/jpeg:https://new.elverger.es/wp-content/uploads/2024/10/exposicio.jpg
GEO:38.842789;0.0103199
X-APPLE-STRUCTURED-LOCATION;VALUE=URI;X-ADDRESS=Torre dels Ducs de Medinaceli C/ Abadia 2 El Verger Alacant 03770 España;X-APPLE-RADIUS=500;X-TITLE=C/ Abadia\, 2:geo:0.0103199,38.842789
END:VEVENT
BEGIN:VEVENT
DTSTART;TZID=Europe/Madrid:20211209T170000
DTEND;TZID=Europe/Madrid:20211209T200000
DTSTAMP:20260425T151709
CREATED:20211119T122447Z
LAST-MODIFIED:20241024T084706Z
UID:10021785-1639069200-1639080000@new.elverger.es
SUMMARY:EXPOSICIÓN ITINERANTE "ART A LA MARINA ALTA"
DESCRIPTION:ante
URL:https://new.elverger.es/event/exposicion-itinerante-art-a-la-marina-alta/2021-12-09/
LOCATION:Torre dels Ducs de Medinaceli\, C/ Abadia\, 2\, El Verger\, Alacant\, 03770\, España
ATTACH;FMTTYPE=image/jpeg:https://new.elverger.es/wp-content/uploads/2024/10/exposicio.jpg
GEO:38.842789;0.0103199
X-APPLE-STRUCTURED-LOCATION;VALUE=URI;X-ADDRESS=Torre dels Ducs de Medinaceli C/ Abadia 2 El Verger Alacant 03770 España;X-APPLE-RADIUS=500;X-TITLE=C/ Abadia\, 2:geo:0.0103199,38.842789
END:VEVENT
BEGIN:VEVENT
DTSTART;TZID=Europe/Madrid:20211208T170000
DTEND;TZID=Europe/Madrid:20211208T200000
DTSTAMP:20260425T151709
CREATED:20211119T122447Z
LAST-MODIFIED:20241024T084703Z
UID:10021542-1638982800-1638993600@new.elverger.es
SUMMARY:EXPOSICIÓN ITINERANTE "ART A LA MARINA ALTA"
DESCRIPTION:ante
URL:https://new.elverger.es/event/exposicion-itinerante-art-a-la-marina-alta/2021-12-08/
LOCATION:Torre dels Ducs de Medinaceli\, C/ Abadia\, 2\, El Verger\, Alacant\, 03770\, España
ATTACH;FMTTYPE=image/jpeg:https://new.elverger.es/wp-content/uploads/2024/10/exposicio.jpg
GEO:38.842789;0.0103199
X-APPLE-STRUCTURED-LOCATION;VALUE=URI;X-ADDRESS=Torre dels Ducs de Medinaceli C/ Abadia 2 El Verger Alacant 03770 España;X-APPLE-RADIUS=500;X-TITLE=C/ Abadia\, 2:geo:0.0103199,38.842789
END:VEVENT
BEGIN:VEVENT
DTSTART;TZID=Europe/Madrid:20211207T170000
DTEND;TZID=Europe/Madrid:20211207T200000
DTSTAMP:20260425T151709
CREATED:20211119T122447Z
LAST-MODIFIED:20241024T084703Z
UID:10021541-1638896400-1638907200@new.elverger.es
SUMMARY:EXPOSICIÓN ITINERANTE "ART A LA MARINA ALTA"
DESCRIPTION:ante
URL:https://new.elverger.es/event/exposicion-itinerante-art-a-la-marina-alta/2021-12-07/
LOCATION:Torre dels Ducs de Medinaceli\, C/ Abadia\, 2\, El Verger\, Alacant\, 03770\, España
ATTACH;FMTTYPE=image/jpeg:https://new.elverger.es/wp-content/uploads/2024/10/exposicio.jpg
GEO:38.842789;0.0103199
X-APPLE-STRUCTURED-LOCATION;VALUE=URI;X-ADDRESS=Torre dels Ducs de Medinaceli C/ Abadia 2 El Verger Alacant 03770 España;X-APPLE-RADIUS=500;X-TITLE=C/ Abadia\, 2:geo:0.0103199,38.842789
END:VEVENT
BEGIN:VEVENT
DTSTART;TZID=Europe/Madrid:20211204T170000
DTEND;TZID=Europe/Madrid:20211204T200000
DTSTAMP:20260425T151709
CREATED:20211119T122447Z
LAST-MODIFIED:20241024T084703Z
UID:10021540-1638637200-1638648000@new.elverger.es
SUMMARY:EXPOSICIÓN ITINERANTE "ART A LA MARINA ALTA"
DESCRIPTION:ante
URL:https://new.elverger.es/event/exposicion-itinerante-art-a-la-marina-alta/2021-12-04/
LOCATION:Torre dels Ducs de Medinaceli\, C/ Abadia\, 2\, El Verger\, Alacant\, 03770\, España
ATTACH;FMTTYPE=image/jpeg:https://new.elverger.es/wp-content/uploads/2024/10/exposicio.jpg
GEO:38.842789;0.0103199
X-APPLE-STRUCTURED-LOCATION;VALUE=URI;X-ADDRESS=Torre dels Ducs de Medinaceli C/ Abadia 2 El Verger Alacant 03770 España;X-APPLE-RADIUS=500;X-TITLE=C/ Abadia\, 2:geo:0.0103199,38.842789
END:VEVENT
BEGIN:VEVENT
DTSTART;TZID=Europe/Madrid:20211203T170000
DTEND;TZID=Europe/Madrid:20211203T200000
DTSTAMP:20260425T151709
CREATED:20211119T122447Z
LAST-MODIFIED:20241024T084703Z
UID:10021539-1638550800-1638561600@new.elverger.es
SUMMARY:EXPOSICIÓN ITINERANTE "ART A LA MARINA ALTA"
DESCRIPTION:ante
URL:https://new.elverger.es/event/exposicion-itinerante-art-a-la-marina-alta/2021-12-03/
LOCATION:Torre dels Ducs de Medinaceli\, C/ Abadia\, 2\, El Verger\, Alacant\, 03770\, España
ATTACH;FMTTYPE=image/jpeg:https://new.elverger.es/wp-content/uploads/2024/10/exposicio.jpg
GEO:38.842789;0.0103199
X-APPLE-STRUCTURED-LOCATION;VALUE=URI;X-ADDRESS=Torre dels Ducs de Medinaceli C/ Abadia 2 El Verger Alacant 03770 España;X-APPLE-RADIUS=500;X-TITLE=C/ Abadia\, 2:geo:0.0103199,38.842789
END:VEVENT
BEGIN:VEVENT
DTSTART;TZID=Europe/Madrid:20211202T170000
DTEND;TZID=Europe/Madrid:20211202T200000
DTSTAMP:20260425T151709
CREATED:20211119T122447Z
LAST-MODIFIED:20241024T084703Z
UID:10021538-1638464400-1638475200@new.elverger.es
SUMMARY:EXPOSICIÓN ITINERANTE "ART A LA MARINA ALTA"
DESCRIPTION:ante
URL:https://new.elverger.es/event/exposicion-itinerante-art-a-la-marina-alta/2021-12-02/
LOCATION:Torre dels Ducs de Medinaceli\, C/ Abadia\, 2\, El Verger\, Alacant\, 03770\, España
ATTACH;FMTTYPE=image/jpeg:https://new.elverger.es/wp-content/uploads/2024/10/exposicio.jpg
GEO:38.842789;0.0103199
X-APPLE-STRUCTURED-LOCATION;VALUE=URI;X-ADDRESS=Torre dels Ducs de Medinaceli C/ Abadia 2 El Verger Alacant 03770 España;X-APPLE-RADIUS=500;X-TITLE=C/ Abadia\, 2:geo:0.0103199,38.842789
END:VEVENT
BEGIN:VEVENT
DTSTART;TZID=Europe/Madrid:20211201T170000
DTEND;TZID=Europe/Madrid:20211201T200000
DTSTAMP:20260425T151709
CREATED:20211119T122447Z
LAST-MODIFIED:20241024T084703Z
UID:10021537-1638378000-1638388800@new.elverger.es
SUMMARY:EXPOSICIÓN ITINERANTE "ART A LA MARINA ALTA"
DESCRIPTION:ante
URL:https://new.elverger.es/event/exposicion-itinerante-art-a-la-marina-alta/2021-12-01/
LOCATION:Torre dels Ducs de Medinaceli\, C/ Abadia\, 2\, El Verger\, Alacant\, 03770\, España
ATTACH;FMTTYPE=image/jpeg:https://new.elverger.es/wp-content/uploads/2024/10/exposicio.jpg
GEO:38.842789;0.0103199
X-APPLE-STRUCTURED-LOCATION;VALUE=URI;X-ADDRESS=Torre dels Ducs de Medinaceli C/ Abadia 2 El Verger Alacant 03770 España;X-APPLE-RADIUS=500;X-TITLE=C/ Abadia\, 2:geo:0.0103199,38.842789
END:VEVENT
BEGIN:VEVENT
DTSTART;TZID=Europe/Madrid:20211130T170000
DTEND;TZID=Europe/Madrid:20211130T200000
DTSTAMP:20260425T151709
CREATED:20211119T122447Z
LAST-MODIFIED:20241024T084703Z
UID:10021536-1638291600-1638302400@new.elverger.es
SUMMARY:EXPOSICIÓN ITINERANTE "ART A LA MARINA ALTA"
DESCRIPTION:ante
URL:https://new.elverger.es/event/exposicion-itinerante-art-a-la-marina-alta/2021-11-30/
LOCATION:Torre dels Ducs de Medinaceli\, C/ Abadia\, 2\, El Verger\, Alacant\, 03770\, España
ATTACH;FMTTYPE=image/jpeg:https://new.elverger.es/wp-content/uploads/2024/10/exposicio.jpg
GEO:38.842789;0.0103199
X-APPLE-STRUCTURED-LOCATION;VALUE=URI;X-ADDRESS=Torre dels Ducs de Medinaceli C/ Abadia 2 El Verger Alacant 03770 España;X-APPLE-RADIUS=500;X-TITLE=C/ Abadia\, 2:geo:0.0103199,38.842789
END:VEVENT
BEGIN:VEVENT
DTSTART;TZID=Europe/Madrid:20211127T170000
DTEND;TZID=Europe/Madrid:20211127T200000
DTSTAMP:20260425T151709
CREATED:20211119T122447Z
LAST-MODIFIED:20241024T084703Z
UID:10021535-1638032400-1638043200@new.elverger.es
SUMMARY:EXPOSICIÓN ITINERANTE "ART A LA MARINA ALTA"
DESCRIPTION:ante
URL:https://new.elverger.es/event/exposicion-itinerante-art-a-la-marina-alta/2021-11-27/
LOCATION:Torre dels Ducs de Medinaceli\, C/ Abadia\, 2\, El Verger\, Alacant\, 03770\, España
ATTACH;FMTTYPE=image/jpeg:https://new.elverger.es/wp-content/uploads/2024/10/exposicio.jpg
GEO:38.842789;0.0103199
X-APPLE-STRUCTURED-LOCATION;VALUE=URI;X-ADDRESS=Torre dels Ducs de Medinaceli C/ Abadia 2 El Verger Alacant 03770 España;X-APPLE-RADIUS=500;X-TITLE=C/ Abadia\, 2:geo:0.0103199,38.842789
END:VEVENT
BEGIN:VEVENT
DTSTART;TZID=Europe/Madrid:20211126T170000
DTEND;TZID=Europe/Madrid:20211126T200000
DTSTAMP:20260425T151709
CREATED:20211119T122447Z
LAST-MODIFIED:20241024T084703Z
UID:10021534-1637946000-1637956800@new.elverger.es
SUMMARY:EXPOSICIÓN ITINERANTE "ART A LA MARINA ALTA"
DESCRIPTION:ante
URL:https://new.elverger.es/event/exposicion-itinerante-art-a-la-marina-alta/2021-11-26/
LOCATION:Torre dels Ducs de Medinaceli\, C/ Abadia\, 2\, El Verger\, Alacant\, 03770\, España
ATTACH;FMTTYPE=image/jpeg:https://new.elverger.es/wp-content/uploads/2024/10/exposicio.jpg
GEO:38.842789;0.0103199
X-APPLE-STRUCTURED-LOCATION;VALUE=URI;X-ADDRESS=Torre dels Ducs de Medinaceli C/ Abadia 2 El Verger Alacant 03770 España;X-APPLE-RADIUS=500;X-TITLE=C/ Abadia\, 2:geo:0.0103199,38.842789
END:VEVENT
BEGIN:VEVENT
DTSTART;TZID=Europe/Madrid:20211125T170000
DTEND;TZID=Europe/Madrid:20211125T200000
DTSTAMP:20260425T151709
CREATED:20211119T122447Z
LAST-MODIFIED:20241024T084703Z
UID:10021533-1637859600-1637870400@new.elverger.es
SUMMARY:EXPOSICIÓN ITINERANTE "ART A LA MARINA ALTA"
DESCRIPTION:ante
URL:https://new.elverger.es/event/exposicion-itinerante-art-a-la-marina-alta/2021-11-25/
LOCATION:Torre dels Ducs de Medinaceli\, C/ Abadia\, 2\, El Verger\, Alacant\, 03770\, España
ATTACH;FMTTYPE=image/jpeg:https://new.elverger.es/wp-content/uploads/2024/10/exposicio.jpg
GEO:38.842789;0.0103199
X-APPLE-STRUCTURED-LOCATION;VALUE=URI;X-ADDRESS=Torre dels Ducs de Medinaceli C/ Abadia 2 El Verger Alacant 03770 España;X-APPLE-RADIUS=500;X-TITLE=C/ Abadia\, 2:geo:0.0103199,38.842789
END:VEVENT
END:VCALENDAR